BEGIN:VCALENDAR
VERSION:2.0
PRODID:icalendar-ruby
CALSCALE:GREGORIAN
METHOD:PUBLISH
BEGIN:VEVENT
DTSTAMP:20260423T192239Z
UID:9-212025@hopesopo.com
DTSTART:20261101T150000Z
DTEND:20261101T161500Z
CLASS:PUBLIC
CREATED:20260423T131134
DESCRIPTION:You can always join us live\, here: https://hopesopo.com/live
LAST-MODIFIED:20260423T131134
LOCATION:879 Sawyer Street
SUMMARY:Gathered Worship
URL;VALUE=URI:https://www.hopesopo.com/events/gathered-worship/2026-11-01
ATTACH;FILENAME=Welcome to.jpg;FMTTYPE=image/jpeg:https://dq5pwpg1q8ru0.clo
 udfront.net/2024/03/29/14/24/49/89320eb4-c49d-40ed-8d58-50ab84a18c2f/Welco
 me%20to.jpg
END:VEVENT
END:VCALENDAR
