BEGIN:VCALENDAR
VERSION:2.0
PRODID:icalendar-ruby
CALSCALE:GREGORIAN
METHOD:PUBLISH
BEGIN:VEVENT
DTSTAMP:20260421T081940Z
UID:33-173407@hopesopo.com
DTSTART:20260417T220000Z
DTEND:20260418T000000Z
CLASS:PUBLIC
CREATED:20260320T101117
DESCRIPTION:Join several churches uniting in prayer and worship for the sak
 e of the gospel reaching our region.
LAST-MODIFIED:20260320T101117
LOCATION:715 Bridgton Road\, Westbrook\, ME 04092
SUMMARY:United for Reviving Prayer Night
URL;VALUE=URI:https://www.hopesopo.com/events/united-for-reviving-prayer-ni
 ght/2026-04-17
ATTACH;FILENAME=IMG_0095.png;FMTTYPE=image/png:https://dq5pwpg1q8ru0.cloudf
 ront.net/2026/03/20/14/11/17/341c8009-12f1-4c00-a6bc-a6eada1c190b/IMG_0095
 .png
END:VEVENT
END:VCALENDAR
